BEGIN:VCALENDAR
VERSION:2.0
PRODID:-//Manila International Film Festival - ECPv6.15.20//NONSGML v1.0//EN
CALSCALE:GREGORIAN
METHOD:PUBLISH
X-WR-CALNAME:Manila International Film Festival
X-ORIGINAL-URL:https://manilainternationalfilmfest.com
X-WR-CALDESC:Events for Manila International Film Festival
REFRESH-INTERVAL;VALUE=DURATION:PT1H
X-Robots-Tag:noindex
X-PUBLISHED-TTL:PT1H
BEGIN:VTIMEZONE
TZID:America/Los_Angeles
BEGIN:DAYLIGHT
TZOFFSETFROM:-0800
TZOFFSETTO:-0700
TZNAME:PDT
DTSTART:20230312T100000
END:DAYLIGHT
BEGIN:STANDARD
TZOFFSETFROM:-0700
TZOFFSETTO:-0800
TZNAME:PST
DTSTART:20231105T090000
END:STANDARD
BEGIN:DAYLIGHT
TZOFFSETFROM:-0800
TZOFFSETTO:-0700
TZNAME:PDT
DTSTART:20240310T100000
END:DAYLIGHT
BEGIN:STANDARD
TZOFFSETFROM:-0700
TZOFFSETTO:-0800
TZNAME:PST
DTSTART:20241103T090000
END:STANDARD
BEGIN:DAYLIGHT
TZOFFSETFROM:-0800
TZOFFSETTO:-0700
TZNAME:PDT
DTSTART:20250309T100000
END:DAYLIGHT
BEGIN:STANDARD
TZOFFSETFROM:-0700
TZOFFSETTO:-0800
TZNAME:PST
DTSTART:20251102T090000
END:STANDARD
END:VTIMEZONE
BEGIN:VEVENT
DTSTART;TZID=America/Los_Angeles:20240131T163000
DTEND;TZID=America/Los_Angeles:20240131T181000
DTSTAMP:20260424T174116
CREATED:20231218T043254Z
LAST-MODIFIED:20240123T033343Z
UID:6365-1706718600-1706724600@manilainternationalfilmfest.com
SUMMARY:“Family of Two (A Mother and Son Story)” starring Sharon Cuneta & Alden Richards
DESCRIPTION:Director: Nuel Naval  \nStarring: Sharon Cuneta and Alden Richards \nLogline: The film revolves around a worried son who seeks to find a man as a partner for his single mother. \n\n    PURCHASE TICKETS
URL:https://manilainternationalfilmfest.com/event/a-family-of-2-a-mother-and-sons-story-starring-sharon-cuneta-alden-richards-2/
LOCATION:TCL Theatre\, 6925 Hollywood Blvd\, Hollywood\, CA\, 90028\, United States
ATTACH;FMTTYPE=image/jpeg:https://manilainternationalfilmfest.com/wp-content/uploads/2023/12/FAMILY-OF-TWO-27-x-40-inches.jpg
END:VEVENT
BEGIN:VEVENT
DTSTART;TZID=America/Los_Angeles:20240131T150000
DTEND;TZID=America/Los_Angeles:20240131T165500
DTSTAMP:20260424T174116
CREATED:20231218T043024Z
LAST-MODIFIED:20240123T033353Z
UID:6363-1706713200-1706720100@manilainternationalfilmfest.com
SUMMARY:“Rewind” starring Marian Rivera & Dingdong Dantes
DESCRIPTION:Director: Mae Cruz-Alviar \nStarring: Marian Rivera and Dingdong Dantes \nLogline: An upcoming Filipino family drama film with a touch of magical realism. \n\n    PURCHASE TICKETS\n    \n 
URL:https://manilainternationalfilmfest.com/event/rewind-starring-marian-rivera-dingdong-dantes-qa-to-follow-2/
LOCATION:TCL Theatre\, 6925 Hollywood Blvd\, Hollywood\, CA\, 90028\, United States
ATTACH;FMTTYPE=image/jpeg:https://manilainternationalfilmfest.com/wp-content/uploads/2023/12/rewind_for-submission.jpg
END:VEVENT
BEGIN:VEVENT
DTSTART;TZID=America/Los_Angeles:20240130T205500
DTEND;TZID=America/Los_Angeles:20240130T224700
DTSTAMP:20260424T174116
CREATED:20231218T042717Z
LAST-MODIFIED:20240123T032733Z
UID:6360-1706648100-1706654820@manilainternationalfilmfest.com
SUMMARY:“(K)Ampon” starring Beauty Gonzalez & Derek Ramsay (Intro & Q&A)
DESCRIPTION:https://vimeo.com/895992974 \n(K)Ampon by Quantum Films \nDirector: King Palisoc \nStarring: Beauty Gonzales and Derek Ramsay \nLogline: Darkness will find you. Secrets will haunt you. Parating na sila. \nIntro (8:55PM – 9:00PM): Welcome Intro of “(K)Ampon” \nQ&A (10:32PM – 10:47PM): Q&A with Filmmakers and Actors to follow screening \n\n    PURCHASE TICKETS
URL:https://manilainternationalfilmfest.com/event/kampon-starring-beauty-gonzalez-derek-ramsay-qa-before-screening/
LOCATION:TCL Theatre\, 6925 Hollywood Blvd\, Hollywood\, CA\, 90028\, United States
ATTACH;FMTTYPE=image/jpeg:https://manilainternationalfilmfest.com/wp-content/uploads/2023/12/Kampon-Teaser-FA-27x40in.jpg
END:VEVENT
BEGIN:VEVENT
DTSTART;TZID=America/Los_Angeles:20240130T192500
DTEND;TZID=America/Los_Angeles:20240130T213200
DTSTAMP:20260424T174116
CREATED:20231218T042401Z
LAST-MODIFIED:20240123T032606Z
UID:6357-1706642700-1706650320@manilainternationalfilmfest.com
SUMMARY:“Broken Heart's Trip” starring Christian Bables & Andoy Ranay (Intro & Q&A)
DESCRIPTION:https://vimeo.com/895995420 \n“Broken Heart’s Trip” by Smart Films Productions\, OPC in cooperation with BMC Films \nDirector: Emuel Lorca \nLead Stars: Christian Bables\, Andoy Ranay\, Teejay Marquez\, Marvin Yap\, Iyah Mina\, and Petite \nLogline: Five brokenhearted LGBTQ individuals will be given a chance to heal in the most beautiful places\, and there’s a million-peso prize at the end.\n \nIntro (7:25PM – 7:30PM): Welcome Intro of “Broken Heart’s Trip” \nQ&A (9:17PM – 9:32PM): Q&A with Filmmakers and Actors to follow screening \n\n    PURCHASE TICKETS
URL:https://manilainternationalfilmfest.com/event/broken-hearts-trip-starring-christian-bables-andoy-ranay-qa-to-follow/
LOCATION:TCL Theatre\, 6925 Hollywood Blvd\, Hollywood\, CA\, 90028\, United States
ATTACH;FMTTYPE=image/jpeg:https://manilainternationalfilmfest.com/wp-content/uploads/2023/12/Broken-Hearts-Trip.jpg
END:VEVENT
BEGIN:VEVENT
DTSTART;TZID=America/Los_Angeles:20240130T175500
DTEND;TZID=America/Los_Angeles:20240130T200000
DTSTAMP:20260424T174116
CREATED:20231218T042202Z
LAST-MODIFIED:20240123T032449Z
UID:6355-1706637300-1706644800@manilainternationalfilmfest.com
SUMMARY:“Firefly” starring Alessandra de Rossi & Euwenn Mikaell (Intro & Q&A)
DESCRIPTION:“Firefly” by GMA Pictures \nDirector: Zig Madamba Dulay \nLead Stars: Alessandra De Rossi and Euwenn Mikaell \nLogline: Follows a little child who\, after hearing tales from his mother at bedtime\, sets off to find the fabled island of fireflies. The kid gets to the island to wish his mother back to life\, using “clues” from an old notebook.\n \nQ&A (5:55PM – 6:00PM): Welcome Intro of “Firefly” \nQ&A (7:45PM – 8:00PM): Q&A with Filmmakers and Actors to follow screening \n\n    PURCHASE TICKETS
URL:https://manilainternationalfilmfest.com/event/firefly-starring-alessandra-de-rossi-euwenn-mikaell-qa-to-follow/
LOCATION:TCL Theatre\, 6925 Hollywood Blvd\, Hollywood\, CA\, 90028\, United States
ATTACH;FMTTYPE=image/jpeg:https://manilainternationalfilmfest.com/wp-content/uploads/2023/12/Firefly-FA-Teaser-27x40in.jpg
END:VEVENT
BEGIN:VEVENT
DTSTART;TZID=America/Los_Angeles:20240130T163000
DTEND;TZID=America/Los_Angeles:20240130T181000
DTSTAMP:20260424T174116
CREATED:20231218T041951Z
LAST-MODIFIED:20240123T032321Z
UID:6353-1706632200-1706638200@manilainternationalfilmfest.com
SUMMARY:“Penduko” starring Matteo Guidicelli & Kylie Verzosa
DESCRIPTION:Director: Jason Paul Laxamana \nStarring: Matteo Guidicelli and Kylie Verzosa \nLogline: A 20 year-old wimp that was raised in the U.S. will go on a journey in the Philippines after his Father died to search his mother only to discover a curse and evil forces destroying the town. \n\n    PURCHASE TICKETS
URL:https://manilainternationalfilmfest.com/event/penduko-starring-matteo-guidicelli-kylie-verzosa/
LOCATION:TCL Theatre\, 6925 Hollywood Blvd\, Hollywood\, CA\, 90028\, United States
ATTACH;FMTTYPE=image/jpeg:https://manilainternationalfilmfest.com/wp-content/uploads/2023/12/PENDUKO-HD-official-poster-of-mmff-2023.jpg
END:VEVENT
BEGIN:VEVENT
DTSTART;TZID=America/Los_Angeles:20240130T150000
DTEND;TZID=America/Los_Angeles:20240130T164400
DTSTAMP:20260424T174116
CREATED:20231218T041338Z
LAST-MODIFIED:20240103T043636Z
UID:6351-1706626800-1706633040@manilainternationalfilmfest.com
SUMMARY:“GomBurZa” starring Enchong Dee\, Cedrick Juan\, and Dante Rivero
DESCRIPTION:“GomBurZa” by Jesuit Communications Foundation Inc. \nDirector: Pepe Diokno \nLead Stars: Enchong Dee\, Cedrick Juan\, and Dante Rivero \nLogline: Mariano Gomes\, José Burgos\, and Jacinto Zamora are three brave Filipino Catholic priests whose narrative is told in this stirring and inspirational historical drama. \n\n    PURCHASE TICKETS
URL:https://manilainternationalfilmfest.com/event/gomburza-starring-enchong-dee-cedrick-juan-dante-rivero/
LOCATION:TCL Theatre\, 6925 Hollywood Blvd\, Hollywood\, CA\, 90028\, United States
ATTACH;FMTTYPE=image/jpeg:https://manilainternationalfilmfest.com/wp-content/uploads/2023/12/GOMBURZA-Poster_MetroManilaFilmFestival.jpg
END:VEVENT
BEGIN:VEVENT
DTSTART;TZID=America/Los_Angeles:20240129T203500
DTEND;TZID=America/Los_Angeles:20240129T225000
DTSTAMP:20260424T174116
CREATED:20231218T041100Z
LAST-MODIFIED:20240123T032235Z
UID:6349-1706560500-1706568600@manilainternationalfilmfest.com
SUMMARY:“Rewind” starring Marian Rivera & Dingdong Dantes (Intro & Q&A)
DESCRIPTION:Director: Mae Cruz-Alviar \nStarring: Marian Rivera and Dingdong Dantes \nLogline: An upcoming Filipino family drama film with a touch of magical realism. \nIntro (8:35PM – 8:40PM): Welcome Intro of “Rewind” \nQ&A (10:35PM – 10:50PM): Q&A with Filmmakers and Actors after screening \n\n    PURCHASE TICKETS
URL:https://manilainternationalfilmfest.com/event/rewind-starring-marian-rivera-dingdong-dantes-qa-to-follow/
LOCATION:TCL Theatre\, 6925 Hollywood Blvd\, Hollywood\, CA\, 90028\, United States
ATTACH;FMTTYPE=image/jpeg:https://manilainternationalfilmfest.com/wp-content/uploads/2023/12/rewind_for-submission.jpg
END:VEVENT
BEGIN:VEVENT
DTSTART;TZID=America/Los_Angeles:20240129T192500
DTEND;TZID=America/Los_Angeles:20240129T215400
DTSTAMP:20260424T174116
CREATED:20231218T040306Z
LAST-MODIFIED:20240123T032019Z
UID:6338-1706556300-1706565240@manilainternationalfilmfest.com
SUMMARY:“Mallari” starring Piolo Pascual & Janella Salvador (Intro & Q&A)
DESCRIPTION:“Mallari” by Mentorque Productions \nDirector: Derick Cabrido \nLead Stars: Piolo Pascual and Janella Salvador \nLOGLINE: The horrific story of Fr. Severino Mallari\, a 19th century priest during the Spanish occupation and his descent into madness. It recounts Mallari’s life where he reportedly murdered 57 people to aid his ailing mother. \nSYNOPSIS: The film is inspired by the actual events revolving around Catholic priest Juan Severino Mallari and how he became the country’s first and only recorded serial killer\, having murdered 57 people in the 1800s. \nIntro (7:25PM – 7:30PM): Welcome Intro of “Mallari” \nQ&A (9:39PM – 9:54PM): Q&A with Filmmakers and Actors to follow \n\n    PURCHASE TICKETS
URL:https://manilainternationalfilmfest.com/event/mallari-starring-piolo-pascual-janella-salvador-qa-to-follow/
LOCATION:TCL Theatre\, 6925 Hollywood Blvd\, Hollywood\, CA\, 90028\, United States
ATTACH;FMTTYPE=image/jpeg:https://manilainternationalfilmfest.com/wp-content/uploads/2023/12/Mallari-Poster-V4.jpg
END:VEVENT
BEGIN:VEVENT
DTSTART;TZID=America/Los_Angeles:20240129T174500
DTEND;TZID=America/Los_Angeles:20240129T195400
DTSTAMP:20260424T174116
CREATED:20231218T035837Z
LAST-MODIFIED:20240123T040601Z
UID:6330-1706550300-1706558040@manilainternationalfilmfest.com
SUMMARY:“Penduko” starring Matteo Guidicelli & Kylie Verzosa (Intro & Q&A)
DESCRIPTION:Director: Jason Paul Laxamana \nStarring: Matteo Guidicelli and Kylie Verzosa \nLogline: A 20 year-old wimp that was raised in the U.S. will go on a journey in the Philippines after his Father died to search his mother only to discover a curse and evil forces destroying the town. \nIntro (5:45PM – 5:50PM): Welcome Intro of “Penduko” \nQ&A (7:39PM – 7:54PM): Q&A with Filmmakers and Actors to follow \n\n    PURCHASE TICKETS
URL:https://manilainternationalfilmfest.com/event/a-family-of-2-a-mother-and-sons-story-starring-sharon-cuneta-alden-richards/
LOCATION:TCL Theatre\, 6925 Hollywood Blvd\, Hollywood\, CA\, 90028\, United States
ATTACH;FMTTYPE=image/jpeg:https://manilainternationalfilmfest.com/wp-content/uploads/2023/12/PENDUKO-HD-official-poster-of-mmff-2023.jpg
END:VEVENT
BEGIN:VEVENT
DTSTART;TZID=America/Los_Angeles:20240129T163000
DTEND;TZID=America/Los_Angeles:20240129T181600
DTSTAMP:20260424T174116
CREATED:20231218T031240Z
LAST-MODIFIED:20231230T220431Z
UID:6309-1706545800-1706552160@manilainternationalfilmfest.com
SUMMARY:“Becky & Badette” starring Pokwang & Eugene Domingo
DESCRIPTION:“Becky & Badette” by The Ideafirst Company \nDirector: Jun Robles Lana \nLead Stars: Eugene Domingo and Pokwang \nLogline: Two best friends who accidentally go viral by making up stories about one of their group mates.\n \n\n    PURCHASE TICKETS
URL:https://manilainternationalfilmfest.com/event/becky-and-badette-starring-pokwang-eugene-domingo/
LOCATION:TCL Theatre\, 6925 Hollywood Blvd\, Hollywood\, CA\, 90028\, United States
ATTACH;FMTTYPE=image/jpeg:https://manilainternationalfilmfest.com/wp-content/uploads/2023/12/BECKY-_-BADETTE_main-poster.jpg
END:VEVENT
BEGIN:VEVENT
DTSTART;TZID=America/Los_Angeles:20240129T150000
DTEND;TZID=America/Los_Angeles:20240129T170000
DTSTAMP:20260424T174116
CREATED:20231218T025240Z
LAST-MODIFIED:20240103T044346Z
UID:6300-1706540400-1706547600@manilainternationalfilmfest.com
SUMMARY:“When I Met You In Tokyo” starring Vilma Santos & Christopher de Leon
DESCRIPTION:“When I Met You in Tokyo” by JG Productions \nDirector: Conrado Peru\, Rommel Penesa\, and Christopher de Leon \nLead Stars: Christopher de Leon and Vilma Santos \nLogline: Azon known for the generosity of her heart meets Joey a divorcee who still harbors the scars of his ex-wife’s infidelity. Tackling unconditional love sacrifices and aging from the perspective of two elderly workers. \n\n    PURCHASE TICKETS
URL:https://manilainternationalfilmfest.com/event/when-i-met-you-in-tokyo/
LOCATION:TCL Theatre\, 6925 Hollywood Blvd\, Hollywood\, CA\, 90028\, United States
ATTACH;FMTTYPE=image/jpeg:https://manilainternationalfilmfest.com/wp-content/uploads/2023/12/WHEN-I-MET-YOU-IN-TOKYO-WIMYIT-ALL-CAST_POSTER-scaled.jpg
END:VEVENT
END:VCALENDAR